BEGIN:VCALENDAR
VERSION:2.0
PRODID:-//The Iliad Academy Preschool | Litchfield Park &amp; Buckeye, AZ - ECPv6.9.0//NONSGML v1.0//EN
CALSCALE:GREGORIAN
METHOD:PUBLISH
X-ORIGINAL-URL:https://iliadpreschool.com
X-WR-CALDESC:Events for The Iliad Academy Preschool | Litchfield Park &amp; Buckeye, AZ
REFRESH-INTERVAL;VALUE=DURATION:PT1H
X-Robots-Tag:noindex
X-PUBLISHED-TTL:PT1H
BEGIN:VTIMEZONE
TZID:America/Phoenix
BEGIN:STANDARD
TZOFFSETFROM:-0700
TZOFFSETTO:-0700
TZNAME:MST
DTSTART:20250101T000000
END:STANDARD
END:VTIMEZONE
BEGIN:VEVENT
DTSTART;VALUE=DATE:20251013
DTEND;VALUE=DATE:20251017
DTSTAMP:20260421T122809
CREATED:20230822T150335Z
LAST-MODIFIED:20250820T210125Z
UID:658-1760313600-1760659199@iliadpreschool.com
SUMMARY:Fall Break - No School
DESCRIPTION:
URL:https://iliadpreschool.com/event/fall-break-no-school/
CATEGORIES:Preschool Closed
END:VEVENT
BEGIN:VEVENT
DTSTART;VALUE=DATE:20251027
DTEND;VALUE=DATE:20251031
DTSTAMP:20260421T122809
CREATED:20250820T233806Z
LAST-MODIFIED:20250820T233806Z
UID:1155-1761523200-1761868799@iliadpreschool.com
SUMMARY:Spirit Week
DESCRIPTION:
URL:https://iliadpreschool.com/event/spirit-week/
CATEGORIES:Preschool Events
END:VEVENT
BEGIN:VEVENT
DTSTART;VALUE=DATE:20251103
DTEND;VALUE=DATE:20251104
DTSTAMP:20260421T122809
CREATED:20250820T233834Z
LAST-MODIFIED:20250820T233834Z
UID:1156-1762128000-1762214399@iliadpreschool.com
SUMMARY:Picture Day: Monday/Wednesday Classes
DESCRIPTION:
URL:https://iliadpreschool.com/event/picture-day-monday-wednesday-classes/
CATEGORIES:Preschool Events
END:VEVENT
BEGIN:VEVENT
DTSTART;VALUE=DATE:20251104
DTEND;VALUE=DATE:20251105
DTSTAMP:20260421T122809
CREATED:20250820T233849Z
LAST-MODIFIED:20250820T233849Z
UID:1157-1762214400-1762300799@iliadpreschool.com
SUMMARY:Picture Day: Tuesday/Thursday Classes and Meyers' 4-day Classes
DESCRIPTION:
URL:https://iliadpreschool.com/event/picture-day-tuesday-thursday-classes-and-meyers-4-day-classes/
CATEGORIES:Preschool Events
END:VEVENT
BEGIN:VEVENT
DTSTART;VALUE=DATE:20251105
DTEND;VALUE=DATE:20251106
DTSTAMP:20260421T122809
CREATED:20250820T233906Z
LAST-MODIFIED:20250820T233906Z
UID:1158-1762300800-1762387199@iliadpreschool.com
SUMMARY:Picture Day: Mommy & Me and Siblings
DESCRIPTION:
URL:https://iliadpreschool.com/event/picture-day-mommy-me-and-siblings/
CATEGORIES:Preschool Events
END:VEVENT
BEGIN:VEVENT
DTSTART;VALUE=DATE:20251111
DTEND;VALUE=DATE:20251112
DTSTAMP:20260421T122809
CREATED:20250820T210429Z
LAST-MODIFIED:20250820T210429Z
UID:1153-1762819200-1762905599@iliadpreschool.com
SUMMARY:Veterans Day
DESCRIPTION:
URL:https://iliadpreschool.com/event/veterans-day/
CATEGORIES:Preschool Closed
END:VEVENT
BEGIN:VEVENT
DTSTART;TZID=America/Phoenix:20251112T090000
DTEND;TZID=America/Phoenix:20251112T120000
DTSTAMP:20260421T122809
CREATED:20250820T233940Z
LAST-MODIFIED:20250820T233940Z
UID:1159-1762938000-1762948800@iliadpreschool.com
SUMMARY:World Wildlife Zoo & Aquarium SCHOOL WIDE Field Trip
DESCRIPTION:
URL:https://iliadpreschool.com/event/world-wildlife-zoo-aquarium-school-wide-field-trip/
CATEGORIES:Preschool Events,Preschool Field Trip
END:VEVENT
BEGIN:VEVENT
DTSTART;VALUE=DATE:20251124
DTEND;VALUE=DATE:20251128
DTSTAMP:20260421T122809
CREATED:20230822T150256Z
LAST-MODIFIED:20250820T210141Z
UID:656-1763942400-1764287999@iliadpreschool.com
SUMMARY:Thanksgiving Break - No School
DESCRIPTION:
URL:https://iliadpreschool.com/event/thanksgiving-break-no-school/
CATEGORIES:Preschool Closed
END:VEVENT
BEGIN:VEVENT
DTSTART;TZID=America/Phoenix:20251212T170000
DTEND;TZID=America/Phoenix:20251212T193000
DTSTAMP:20260421T122809
CREATED:20250820T234019Z
LAST-MODIFIED:20250820T234019Z
UID:1160-1765558800-1765567800@iliadpreschool.com
SUMMARY:Winter Musicals
DESCRIPTION:5:00 pm — Halmrast’s Classes \n5:30pm — Dolan’s Classes \n6:00 pm – LaFrance’s Classes \n6:30 pm — Meyers’ Classes
URL:https://iliadpreschool.com/event/winter-musicals/
CATEGORIES:Preschool Events
END:VEVENT
BEGIN:VEVENT
DTSTART;VALUE=DATE:20251217
DTEND;VALUE=DATE:20251219
DTSTAMP:20260421T122809
CREATED:20250820T234035Z
LAST-MODIFIED:20250820T234035Z
UID:1161-1765929600-1766102399@iliadpreschool.com
SUMMARY:Pancakes & Pajamas
DESCRIPTION:
URL:https://iliadpreschool.com/event/pancakes-pajamas/
CATEGORIES:Preschool Events
END:VEVENT
BEGIN:VEVENT
DTSTART;VALUE=DATE:20251222
DTEND;VALUE=DATE:20260102
DTSTAMP:20260421T122809
CREATED:20230822T150149Z
LAST-MODIFIED:20250820T210155Z
UID:654-1766361600-1767311999@iliadpreschool.com
SUMMARY:Winter Break - No School
DESCRIPTION:
URL:https://iliadpreschool.com/event/winter-break-no-school/
CATEGORIES:Preschool Closed
END:VEVENT
BEGIN:VEVENT
DTSTART;VALUE=DATE:20260119
DTEND;VALUE=DATE:20260120
DTSTAMP:20260421T122809
CREATED:20231227T214254Z
LAST-MODIFIED:20250820T210214Z
UID:970-1768780800-1768867199@iliadpreschool.com
SUMMARY:Civil Rights Day - No School
DESCRIPTION:
URL:https://iliadpreschool.com/event/civil-rights-day-no-school-2/
CATEGORIES:Preschool Closed
END:VEVENT
BEGIN:VEVENT
DTSTART;VALUE=DATE:20260216
DTEND;VALUE=DATE:20260217
DTSTAMP:20260421T122809
CREATED:20231227T214328Z
LAST-MODIFIED:20250820T210226Z
UID:968-1771200000-1771286399@iliadpreschool.com
SUMMARY:Presidents Day
DESCRIPTION:
URL:https://iliadpreschool.com/event/presidents-day/
CATEGORIES:Preschool Closed
END:VEVENT
BEGIN:VEVENT
DTSTART;VALUE=DATE:20260316
DTEND;VALUE=DATE:20260320
DTSTAMP:20260421T122809
CREATED:20231227T214139Z
LAST-MODIFIED:20250820T210238Z
UID:967-1773619200-1773964799@iliadpreschool.com
SUMMARY:Spring Break - Closed
DESCRIPTION:
URL:https://iliadpreschool.com/event/spring-break-closed-2/
CATEGORIES:Preschool Closed
END:VEVENT
BEGIN:VEVENT
DTSTART;VALUE=DATE:20260518
DTEND;VALUE=DATE:20260519
DTSTAMP:20260421T122809
CREATED:20231227T214426Z
LAST-MODIFIED:20250820T211108Z
UID:974-1779062400-1779148799@iliadpreschool.com
SUMMARY:Last Day of School for Monday Mommy and Me class
DESCRIPTION:
URL:https://iliadpreschool.com/event/last-day-of-school-for-monday-mommy-and-me-class-3/
CATEGORIES:Mommy and Me Class
END:VEVENT
BEGIN:VEVENT
DTSTART;VALUE=DATE:20260519
DTEND;VALUE=DATE:20260520
DTSTAMP:20260421T122809
CREATED:20231227T214448Z
LAST-MODIFIED:20250820T211108Z
UID:976-1779148800-1779235199@iliadpreschool.com
SUMMARY:Last Day of School for Tuesday Mommy and Me class
DESCRIPTION:
URL:https://iliadpreschool.com/event/last-day-of-school-for-tuesday-mommy-and-me-class-3/
CATEGORIES:Mommy and Me Class
END:VEVENT
BEGIN:VEVENT
DTSTART;VALUE=DATE:20260520
DTEND;VALUE=DATE:20260521
DTSTAMP:20260421T122809
CREATED:20231227T214508Z
LAST-MODIFIED:20250820T211108Z
UID:978-1779235200-1779321599@iliadpreschool.com
SUMMARY:Last Day of School for Wednesday Mommy and Me class
DESCRIPTION:
URL:https://iliadpreschool.com/event/last-day-of-school-for-wednesday-mommy-and-me-class-3/
CATEGORIES:Mommy and Me Class
END:VEVENT
BEGIN:VEVENT
DTSTART;VALUE=DATE:20260520
DTEND;VALUE=DATE:20260521
DTSTAMP:20260421T122809
CREATED:20231227T214552Z
LAST-MODIFIED:20250820T211108Z
UID:980-1779235200-1779321599@iliadpreschool.com
SUMMARY:Last Day of School for Mon/Wed schedules
DESCRIPTION:
URL:https://iliadpreschool.com/event/last-day-of-school-for-mon-wed-schedules-3/
CATEGORIES:Mommy and Me Class
END:VEVENT
BEGIN:VEVENT
DTSTART;VALUE=DATE:20260521
DTEND;VALUE=DATE:20260522
DTSTAMP:20260421T122809
CREATED:20231227T214622Z
LAST-MODIFIED:20250820T211108Z
UID:982-1779321600-1779407999@iliadpreschool.com
SUMMARY:Last Day of School for Thursday Mommy and Me class
DESCRIPTION:
URL:https://iliadpreschool.com/event/last-day-of-school-for-thursday-mommy-and-me-class-2/
CATEGORIES:Mommy and Me Class
END:VEVENT
BEGIN:VEVENT
DTSTART;VALUE=DATE:20260521
DTEND;VALUE=DATE:20260522
DTSTAMP:20260421T122809
CREATED:20231227T214749Z
LAST-MODIFIED:20250820T211108Z
UID:988-1779321600-1779407999@iliadpreschool.com
SUMMARY:Last day of school for Tues/Thurs and 4 day schedules
DESCRIPTION:
URL:https://iliadpreschool.com/event/last-day-of-school-for-tues-thurs-and-4-day-schedules-3/
CATEGORIES:Mommy and Me Class
END:VEVENT
END:VCALENDAR