BEGIN:VCALENDAR
VERSION:2.0
PRODID:-//The Iliad Academy Preschool | Litchfield Park &amp; Buckeye, AZ - ECPv6.9.0//NONSGML v1.0//EN
CALSCALE:GREGORIAN
METHOD:PUBLISH
X-ORIGINAL-URL:https://iliadpreschool.com
X-WR-CALDESC:Events for The Iliad Academy Preschool | Litchfield Park &amp; Buckeye, AZ
REFRESH-INTERVAL;VALUE=DURATION:PT1H
X-Robots-Tag:noindex
X-PUBLISHED-TTL:PT1H
BEGIN:VTIMEZONE
TZID:America/Phoenix
BEGIN:STANDARD
TZOFFSETFROM:-0700
TZOFFSETTO:-0700
TZNAME:MST
DTSTART:20260101T000000
END:STANDARD
END:VTIMEZONE
BEGIN:VEVENT
DTSTART;VALUE=DATE:20260520
DTEND;VALUE=DATE:20260521
DTSTAMP:20260422T012621
CREATED:20231227T214508Z
LAST-MODIFIED:20250820T211108Z
UID:978-1779235200-1779321599@iliadpreschool.com
SUMMARY:Last Day of School for Wednesday Mommy and Me class
DESCRIPTION:
URL:https://iliadpreschool.com/event/last-day-of-school-for-wednesday-mommy-and-me-class-3/
CATEGORIES:Mommy and Me Class
END:VEVENT
BEGIN:VEVENT
DTSTART;VALUE=DATE:20260520
DTEND;VALUE=DATE:20260521
DTSTAMP:20260422T012621
CREATED:20231227T214552Z
LAST-MODIFIED:20250820T211108Z
UID:980-1779235200-1779321599@iliadpreschool.com
SUMMARY:Last Day of School for Mon/Wed schedules
DESCRIPTION:
URL:https://iliadpreschool.com/event/last-day-of-school-for-mon-wed-schedules-3/
CATEGORIES:Mommy and Me Class
END:VEVENT
END:VCALENDAR