BEGIN:VCALENDAR
VERSION:2.0
PRODID:-//The Iliad Academy Preschool | Litchfield Park &amp; Buckeye, AZ - ECPv6.9.0//NONSGML v1.0//EN
CALSCALE:GREGORIAN
METHOD:PUBLISH
X-WR-CALNAME:The Iliad Academy Preschool | Litchfield Park &amp; Buckeye, AZ
X-ORIGINAL-URL:https://iliadpreschool.com
X-WR-CALDESC:Events for The Iliad Academy Preschool | Litchfield Park &amp; Buckeye, AZ
REFRESH-INTERVAL;VALUE=DURATION:PT1H
X-Robots-Tag:noindex
X-PUBLISHED-TTL:PT1H
BEGIN:VTIMEZONE
TZID:America/Phoenix
BEGIN:STANDARD
TZOFFSETFROM:-0700
TZOFFSETTO:-0700
TZNAME:MST
DTSTART:20240101T000000
END:STANDARD
END:VTIMEZONE
BEGIN:VEVENT
DTSTART;VALUE=DATE:20240715
DTEND;VALUE=DATE:20240719
DTSTAMP:20260421T070505
CREATED:20231227T213634Z
LAST-MODIFIED:20231227T213634Z
UID:964-1721001600-1721347199@iliadpreschool.com
SUMMARY:Summer Camp Week #5
DESCRIPTION:
URL:https://iliadpreschool.com/event/summer-camp-week-5/
CATEGORIES:Preschool Summer Camp
END:VEVENT
END:VCALENDAR